BEGIN:VCALENDAR
VERSION:2.0
PRODID:-//Plone.org//NONSGML plone.app.event//EN
X-WR-TIMEZONE:America/Sao_Paulo
BEGIN:VEVENT
SUMMARY:DEBATES NA PONTA DO GIZ: Gênero\, raça e sexualidade na permanê
 ncia estudantil em [ Auditório B106 do CAD3]
DTSTART;TZID=America/Sao_Paulo;VALUE=DATE-TIME:20230817T140000
DTEND;TZID=America/Sao_Paulo;VALUE=DATE-TIME:20230817T153000
DTSTAMP;VALUE=DATE-TIME:20260421T091153Z
UID:06d7c44656a94af49ed64f52999a8e90@150.164.76.86:8080
CREATED;VALUE=DATE-TIME:20230719T122707Z
DESCRIPTION:Título: “DEBATES NA PONTA DO GIZ: Gênero\, raça e sexuali
 dade na permanência estudantil”. \nData: 17/08/2023 Duração: 14:00-15
 :30hs (1h30min) \nPúblico-alvo: Estudantes de graduação da UFMG \nPrevi
 são de Público: 150\n\nFormato: Presencial\, com 3 falas de aproximadame
 nte 15 a 20 minutos\, sendo uma delas uma\nprofessora convidada externa vi
 a teleconferência. Como a ideia é dar protagonismo aos estudantes\nde gr
 aduação\, é essencial a presença de estudantes na mesa. Após as apres
 entações\, abertura para\ndebates e perguntas do público. O evento ser
 á transmitido online.\nPossíveis participantes convidados: Heloisa Buarq
 ue (USP\, já confirmada)\, Gesex (Fafich\, a\nconfirmar)\, Rodrigo Edmils
 on de Jesus (ou nome por ele indicado\, a confirmar)\, estudantes e\ncolet
 ivos da UFMG.\nLocal: Auditório do CAD3 (necessário verificar disponibil
 idade). \nOutros recursos necessários: Equipe da CAC para transmissão do
  evento e equipe de intérpretes de\nLibras do NAI
LAST-MODIFIED;VALUE=DATE-TIME:20230719T152618Z
URL:http://150.164.76.86:8080/cac/agenda/1176129627629419003
END:VEVENT
BEGIN:VTIMEZONE
TZID:America/Sao_Paulo
X-LIC-LOCATION:America/Sao_Paulo
BEGIN:STANDARD
DTSTART;VALUE=DATE-TIME:20230225T230000
TZNAME:BRT
TZOFFSETFROM:-0200
TZOFFSETTO:-0300
END:STANDARD
END:VTIMEZONE
END:VCALENDAR
