BEGIN:VCALENDAR
VERSION:2.0
PRODID:-//Plone.org//NONSGML plone.app.event//EN
X-WR-TIMEZONE:America/Sao_Paulo
BEGIN:VEVENT
SUMMARY:Picaderró em [ Arena da praça de serviços]
DTSTART;TZID=America/Sao_Paulo;VALUE=DATE-TIME:20250312T173000
DTEND;TZID=America/Sao_Paulo;VALUE=DATE-TIME:20250312T193000
DTSTAMP;VALUE=DATE-TIME:20260419T120252Z
UID:c000b4f7d7714bc9bc1097b5f7b5c4b8@150.164.76.86:8080
CREATED;VALUE=DATE-TIME:20250124T182743Z
DESCRIPTION:Evento de dança de forró pé-de-serra\nUtilizamos apenas uma
  caixa de som própria.
LAST-MODIFIED;VALUE=DATE-TIME:20250127T134055Z
URL:http://150.164.76.86:8080/cac/agenda/11748739458142147112
END:VEVENT
BEGIN:VTIMEZONE
TZID:America/Sao_Paulo
X-LIC-LOCATION:America/Sao_Paulo
BEGIN:STANDARD
DTSTART;VALUE=DATE-TIME:20250215T230000
TZNAME:BRT
TZOFFSETFROM:-0200
TZOFFSETTO:-0300
END:STANDARD
END:VTIMEZONE
END:VCALENDAR
