BEGIN:VCALENDAR
VERSION:2.0
PRODID:-//Plone.org//NONSGML plone.app.event//EN
X-WR-TIMEZONE:America/Sao_Paulo
BEGIN:VEVENT
SUMMARY:Seminário Fhemig/UFMG em [ Outros espacos]
DTSTART;TZID=America/Sao_Paulo;VALUE=DATE-TIME:20240619T140000
DTEND;TZID=America/Sao_Paulo;VALUE=DATE-TIME:20240619T160000
DTSTAMP;VALUE=DATE-TIME:20260420T014521Z
UID:fbffdce398e949e3b895667ece7a1f0d@150.164.76.86:8080
CREATED;VALUE=DATE-TIME:20240416T120104Z
DESCRIPTION:Parceria UFMG/ Fhemig
LAST-MODIFIED;VALUE=DATE-TIME:20240418T141657Z
URL:http://150.164.76.86:8080/cac/agenda/11741295330593181577
END:VEVENT
BEGIN:VTIMEZONE
TZID:America/Sao_Paulo
X-LIC-LOCATION:America/Sao_Paulo
BEGIN:STANDARD
DTSTART;VALUE=DATE-TIME:20240217T230000
TZNAME:BRT
TZOFFSETFROM:-0200
TZOFFSETTO:-0300
END:STANDARD
END:VTIMEZONE
END:VCALENDAR
