BEGIN:VCALENDAR
VERSION:2.0
PRODID:-//Plone.org//NONSGML plone.app.event//EN
X-WR-TIMEZONE:America/Sao_Paulo
BEGIN:VEVENT
SUMMARY:Processo Seletivo do Colégio Técnico da UFMG em [ Auditorio A102
  do Cad 2 Auditorio A104 do Cad 2 Outros espacos Auditorio Nobre do CAD 1 
 Auditorio 1A do CAD 1 Auditorio 2A do CAD 1]
DTSTART;TZID=America/Sao_Paulo;VALUE=DATE-TIME:20221126T080000
DTEND;TZID=America/Sao_Paulo;VALUE=DATE-TIME:20221127T180000
DTSTAMP;VALUE=DATE-TIME:20260421T232638Z
UID:6ed621c2e0594405821c6f7745f92ef2@150.164.76.86:8080
CREATED;VALUE=DATE-TIME:20220901T191519Z
DESCRIPTION:<p><b><span>Processo Seletivo do Colégio Técnico da UFMG</sp
 an></b></p>
LAST-MODIFIED;VALUE=DATE-TIME:20221024T183109Z
URL:http://150.164.76.86:8080/cac/agenda/1173810284470552215
END:VEVENT
BEGIN:VTIMEZONE
TZID:America/Sao_Paulo
X-LIC-LOCATION:America/Sao_Paulo
BEGIN:DAYLIGHT
DTSTART;VALUE=DATE-TIME:20221016T010000
TZNAME:BRST
TZOFFSETFROM:-0300
TZOFFSETTO:-0200
END:DAYLIGHT
END:VTIMEZONE
END:VCALENDAR
