BEGIN:VCALENDAR
VERSION:2.0
PRODID:-//Plone.org//NONSGML plone.app.event//EN
X-WR-TIMEZONE:America/Sao_Paulo
BEGIN:VEVENT
SUMMARY:Colação de Grau Enfermagem\, turma 2021/2 em [ Auditorio Nobre d
 o CAD 1]
DTSTART;TZID=America/Sao_Paulo;VALUE=DATE-TIME:20220506T190000
DTEND;TZID=America/Sao_Paulo;VALUE=DATE-TIME:20220506T210000
DTSTAMP;VALUE=DATE-TIME:20260422T063538Z
UID:a4a01cd8754e4df7ace7396c63170867@150.164.76.86:8080
CREATED;VALUE=DATE-TIME:20220406T155732Z
DESCRIPTION:Colação de grau oficial dos alunos do Curso de Enfermagem\, 
 turma 2021/2.
LAST-MODIFIED;VALUE=DATE-TIME:20220412T154609Z
URL:http://150.164.76.86:8080/cac/agenda/1173760501515076480
END:VEVENT
BEGIN:VTIMEZONE
TZID:America/Sao_Paulo
X-LIC-LOCATION:America/Sao_Paulo
BEGIN:STANDARD
DTSTART;VALUE=DATE-TIME:20220219T230000
TZNAME:BRT
TZOFFSETFROM:-0200
TZOFFSETTO:-0300
END:STANDARD
END:VTIMEZONE
END:VCALENDAR
