BEGIN:VCALENDAR
VERSION:2.0
PRODID:-//Plone.org//NONSGML plone.app.event//EN
X-WR-TIMEZONE:America/Sao_Paulo
BEGIN:VEVENT
SUMMARY:II Mostra de Internacionalização da UFMG em [ Auditório B107 do
  CAD3]
DTSTART;TZID=America/Sao_Paulo;VALUE=DATE-TIME:20240513T070000
DTEND;TZID=America/Sao_Paulo;VALUE=DATE-TIME:20240514T210000
DTSTAMP;VALUE=DATE-TIME:20260420T031126Z
UID:a1b6c80905b44543868a20bacff96205@150.164.76.86:8080
CREATED;VALUE=DATE-TIME:20240112T133057Z
DESCRIPTION:<p>A Diretoria de Relações Internacionais (DRI) realizará a
  II Mostra de Internacionalização da UFMG. O evento coloca em pauta a in
 ternacionalização do ensino superior\, proporcionando a estudantes e pes
 quisadores brasileiros e internacionais importantes diálogos e experiênc
 ias\, que visam expandir concepções de mundo e estreitar relações entr
 e as nações e as áreas do conhecimento. Nas datas agendadas\, 14 e 15 d
 e maio\, serão realizadas palestras com a temática da internacionalizaç
 ão e apresentações voltadas aos membros discentes da comunidade acadêm
 ica interessados em realizar mobilidade acadêmica internacional. Serão n
 ecessários materiais para apresentação de slides\, microfones e exposi
 ção de banner do evento. Solicitamos a possibilidade de gravação das a
 presentações do turno da manhã em ambos os dias\, 14 e 15.</p>
LAST-MODIFIED;VALUE=DATE-TIME:20240506T131418Z
URL:http://150.164.76.86:8080/cac/agenda/1173365999315835680
END:VEVENT
BEGIN:VTIMEZONE
TZID:America/Sao_Paulo
X-LIC-LOCATION:America/Sao_Paulo
BEGIN:STANDARD
DTSTART;VALUE=DATE-TIME:20240217T230000
TZNAME:BRT
TZOFFSETFROM:-0200
TZOFFSETTO:-0300
END:STANDARD
END:VTIMEZONE
END:VCALENDAR
