BEGIN:VCALENDAR
VERSION:2.0
PRODID:-//Plone.org//NONSGML plone.app.event//EN
X-WR-TIMEZONE:America/Sao_Paulo
BEGIN:VEVENT
SUMMARY:SUSPENSO - 21ª Feira de Artesanato do Vale do Jequitinhonha em [ 
 Em torno da Praca de Servicos Arena da praça de serviços]
DTSTART;TZID=America/Sao_Paulo;VALUE=DATE-TIME:20200503T080000
DTEND;TZID=America/Sao_Paulo;VALUE=DATE-TIME:20200509T210000
DTSTAMP;VALUE=DATE-TIME:20260424T233859Z
UID:56714fa99e3a404299406a1ed819f88f@150.164.76.86:8080
CREATED;VALUE=DATE-TIME:20200217T133622Z
DESCRIPTION:<p>21ª Feira de Artesanato do Vale do Jequitinhonha. As deman
 das técnicas serão enviadas posteriormente pelo setor de produção exec
 utiva (3409-6411).</p>
LAST-MODIFIED;VALUE=DATE-TIME:20200318T155207Z
URL:http://150.164.76.86:8080/cac/agenda/11723442135516338695
END:VEVENT
BEGIN:VTIMEZONE
TZID:America/Sao_Paulo
X-LIC-LOCATION:America/Sao_Paulo
BEGIN:STANDARD
DTSTART;VALUE=DATE-TIME:20200215T230000
TZNAME:BRT
TZOFFSETFROM:-0200
TZOFFSETTO:-0300
END:STANDARD
END:VTIMEZONE
END:VCALENDAR
