BEGIN:VCALENDAR
VERSION:2.0
PRODID:-//Plone.org//NONSGML plone.app.event//EN
X-WR-TIMEZONE:America/Sao_Paulo
BEGIN:VEVENT
SUMMARY:Palestra: Izabelle Scoralick - Trajetória profissional na área d
 e costumer marketing em [ Auditório B106 do CAD3]
DTSTART;TZID=America/Sao_Paulo;VALUE=DATE-TIME:20220929T160000
DTEND;TZID=America/Sao_Paulo;VALUE=DATE-TIME:20220929T183000
DTSTAMP;VALUE=DATE-TIME:20260422T012616Z
UID:df7388a1a878481cb740413a04c8a318@150.164.76.86:8080
CREATED;VALUE=DATE-TIME:20220921T151211Z
DESCRIPTION:<p>Evento organizado pela Inderios Consultoria\, projeto de ex
 tensão da UFMG. A palestra vai abordar assuntos sobre a trajetória da pr
 ofissional de costumer marketing. Início: 16:30 Final: 17:30 Vamos precis
 ar de microfone e projetor para colocar a apresentação.</p>
LAST-MODIFIED;VALUE=DATE-TIME:20220927T165909Z
URL:http://150.164.76.86:8080/cac/agenda/11700740340176481253
END:VEVENT
BEGIN:VTIMEZONE
TZID:America/Sao_Paulo
X-LIC-LOCATION:America/Sao_Paulo
BEGIN:STANDARD
DTSTART;VALUE=DATE-TIME:20220219T230000
TZNAME:BRT
TZOFFSETFROM:-0200
TZOFFSETTO:-0300
END:STANDARD
END:VTIMEZONE
END:VCALENDAR
