BEGIN:VCALENDAR
VERSION:2.0
PRODID:-//Plone.org//NONSGML plone.app.event//EN
X-WR-TIMEZONE:America/Sao_Paulo
BEGIN:VEVENT
SUMMARY:Feira de artesanato do Vale do Jequitinhonha em [ Em torno da Prac
 a de Servicos Arena da praça de serviços]
DTSTART;TZID=America/Sao_Paulo;VALUE=DATE-TIME:20220909T070000
DTEND;TZID=America/Sao_Paulo;VALUE=DATE-TIME:20220919T160000
DTSTAMP;VALUE=DATE-TIME:20260422T012715Z
UID:5e233e640af64696a0ef65a5d4457b0e@150.164.76.86:8080
CREATED;VALUE=DATE-TIME:20220429T194600Z
DESCRIPTION:XXI Feira de Artesanato do Vale do Jequitinhonha na UFMG
LAST-MODIFIED;VALUE=DATE-TIME:20220503T131934Z
URL:http://150.164.76.86:8080/cac/agenda/11680323145972678438
END:VEVENT
BEGIN:VTIMEZONE
TZID:America/Sao_Paulo
X-LIC-LOCATION:America/Sao_Paulo
BEGIN:STANDARD
DTSTART;VALUE=DATE-TIME:20220219T230000
TZNAME:BRT
TZOFFSETFROM:-0200
TZOFFSETTO:-0300
END:STANDARD
END:VTIMEZONE
END:VCALENDAR
