BEGIN:VCALENDAR
VERSION:2.0
PRODID:-//Plone.org//NONSGML plone.app.event//EN
X-WR-TIMEZONE:America/Sao_Paulo
BEGIN:VEVENT
SUMMARY:Rollout Fórmula SAE UFMG em [ Auditorio A104 do Cad 2]
DTSTART;TZID=America/Sao_Paulo;VALUE=DATE-TIME:20230727T140000
DTEND;TZID=America/Sao_Paulo;VALUE=DATE-TIME:20230727T210000
DTSTAMP;VALUE=DATE-TIME:20260421T104108Z
UID:cc050f34062d4a04984f568bfd1575fc@150.164.76.86:8080
CREATED;VALUE=DATE-TIME:20230703T234458Z
DESCRIPTION:<p>O Fórmula SAE UFMG é uma equipe de competição formada p
 or estudantes da Escola de Engenharia que tem por objetivo construir um ca
 rro estilo fórmula de alto desempenho para participar de uma competição
  nacional\, a Fórmula SAE Brasil. A competição de 2023 é logo agora em
  agosto e a equipe está na reta final da fabricação do nosso carro. Par
 a agradecer o apoio da instituição\, dos professores\, dos nossos patroc
 inadores e parceiros\, nós realizamos um evento de revelação do veícul
 o\, evento o qual chamamos de Rollout Para o evento será necessário - Mi
 crofones (min. 2) - Telão/ tela - Caixa de som - Material de iluminação
  do palco - Projetor - Mesas - Câmera para transmissão do evento ao vivo
  (opcional) No evento\, a equipe contará um pouco sobre a sua trajetória
  na temporada de 2022/2023\, os desafios\, as conquistas e o caminho para 
 chegar onde chegou. Para isso\, alguns membros seriam chamados ao palco pa
 ra relatar um pouco sobre a sua experiência e vídeos de momentos na ofic
 ina e testes serão mostrados no telão. Também serão feitos agradecimen
 tos aos familiares\, a instituição e aos patrocinadores\, momento em que
  chamamos algumas pessoas ao palco para serem prestigiadas. Por fim\, no f
 inal do evento o carro TR-08 será finalmente revelado ao público ao som 
 de alguma musica emblemática. Equipe agradece mais uma vez a todos\, conv
 idam os presentes para subirem ao palco e olharem de perto o veículo. Luz
 es se acendem. OBS: evento ocorrerá em modo aula.</p>
LAST-MODIFIED;VALUE=DATE-TIME:20230704T170628Z
URL:http://150.164.76.86:8080/cac/agenda/11677581308407700631
END:VEVENT
BEGIN:VTIMEZONE
TZID:America/Sao_Paulo
X-LIC-LOCATION:America/Sao_Paulo
BEGIN:STANDARD
DTSTART;VALUE=DATE-TIME:20230225T230000
TZNAME:BRT
TZOFFSETFROM:-0200
TZOFFSETTO:-0300
END:STANDARD
END:VTIMEZONE
END:VCALENDAR
