BEGIN:VCALENDAR
VERSION:2.0
PRODID:-//Plone.org//NONSGML plone.app.event//EN
X-WR-TIMEZONE:America/Sao_Paulo
BEGIN:VEVENT
SUMMARY:Literary Tour through Han Kangs Masterworks - Prof. Chun Seh Jae e
 m [ Auditório B101/102 do CAD 3]
DTSTART;TZID=America/Sao_Paulo;VALUE=DATE-TIME:20250122T110000
DTEND;TZID=America/Sao_Paulo;VALUE=DATE-TIME:20250122T120000
DTSTAMP;VALUE=DATE-TIME:20260419T151124Z
UID:7af12344433145baa3314d9f8df95215@150.164.76.86:8080
CREATED;VALUE=DATE-TIME:20250117T204229Z
DESCRIPTION:<p>Palestra "Literary Tour through Han Kang's Masterworks" que
  será ministrada pelo Prof. Chun Seh Jae.</p>
LAST-MODIFIED;VALUE=DATE-TIME:20250120T164132Z
URL:http://150.164.76.86:8080/cac/agenda/11671583311996320848
END:VEVENT
BEGIN:VTIMEZONE
TZID:America/Sao_Paulo
X-LIC-LOCATION:America/Sao_Paulo
BEGIN:DAYLIGHT
DTSTART;VALUE=DATE-TIME:20241020T010000
TZNAME:BRST
TZOFFSETFROM:-0300
TZOFFSETTO:-0200
END:DAYLIGHT
END:VTIMEZONE
END:VCALENDAR
