BEGIN:VCALENDAR
VERSION:2.0
PRODID:-//Plone.org//NONSGML plone.app.event//EN
X-WR-TIMEZONE:America/Sao_Paulo
BEGIN:VEVENT
SUMMARY:Treinamento Fundep - Compliance em [ Auditorio Nobre do CAD 1]
DTSTART;TZID=America/Sao_Paulo;VALUE=DATE-TIME:20250414T160000
DTEND;TZID=America/Sao_Paulo;VALUE=DATE-TIME:20250416T120000
DTSTAMP;VALUE=DATE-TIME:20260419T120329Z
UID:1d3e76eca2d44afbb641ce410d4af32c@150.164.76.86:8080
CREATED;VALUE=DATE-TIME:20241105T184807Z
DESCRIPTION:<p>Treinamento para todos os colaboradores da Fundep.</p>
LAST-MODIFIED;VALUE=DATE-TIME:20250402T181703Z
URL:http://150.164.76.86:8080/cac/agenda/11662055131877577522
END:VEVENT
BEGIN:VTIMEZONE
TZID:America/Sao_Paulo
X-LIC-LOCATION:America/Sao_Paulo
BEGIN:STANDARD
DTSTART;VALUE=DATE-TIME:20250215T230000
TZNAME:BRT
TZOFFSETFROM:-0200
TZOFFSETTO:-0300
END:STANDARD
END:VTIMEZONE
END:VCALENDAR
