BEGIN:VCALENDAR
VERSION:2.0
PRODID:-//Plone.org//NONSGML plone.app.event//EN
X-WR-TIMEZONE:America/Sao_Paulo
BEGIN:VEVENT
SUMMARY:Curso de Cerimonial para unidades acadêmicas em [ Auditorio da Re
 itoria]
DTSTART;TZID=America/Sao_Paulo;VALUE=DATE-TIME:20221117T080000
DTEND;TZID=America/Sao_Paulo;VALUE=DATE-TIME:20221118T120000
DTSTAMP;VALUE=DATE-TIME:20260421T221015Z
UID:c5b53bc7dfff483dbece2cb2b35d7c7e@150.164.76.86:8080
CREATED;VALUE=DATE-TIME:20220926T134833Z
DESCRIPTION:<p>Curso de Cerimonial para unidades acadêmicas - áudio e pr
 ojeção</p>
LAST-MODIFIED;VALUE=DATE-TIME:20220926T134847Z
URL:http://150.164.76.86:8080/cac/agenda/11650643451094357646
END:VEVENT
BEGIN:VTIMEZONE
TZID:America/Sao_Paulo
X-LIC-LOCATION:America/Sao_Paulo
BEGIN:DAYLIGHT
DTSTART;VALUE=DATE-TIME:20221016T010000
TZNAME:BRST
TZOFFSETFROM:-0300
TZOFFSETTO:-0200
END:DAYLIGHT
END:VTIMEZONE
END:VCALENDAR
