BEGIN:VCALENDAR
VERSION:2.0
PRODID:-//Plone.org//NONSGML plone.app.event//EN
X-WR-TIMEZONE:America/Sao_Paulo
BEGIN:VEVENT
SUMMARY:II Congresso Brasileiro de Anatomia Aplicada à Estética da UFMG 
 em [ Auditorio Nobre do CAD 1]
DTSTART;TZID=America/Sao_Paulo;VALUE=DATE-TIME:20241002T090000
DTEND;TZID=America/Sao_Paulo;VALUE=DATE-TIME:20241004T200000
DTSTAMP;VALUE=DATE-TIME:20260419T175433Z
UID:a5f31d8bf47345b7aefa024f463ea70d@150.164.76.86:8080
CREATED;VALUE=DATE-TIME:20240419T130820Z
DESCRIPTION:<p>Será realizado a segunda edição do Congresso Brasileiro 
 de Anatomia aplicada à Estética\, com palestras sequenciais e transmiss
 ão ao vivo de procedimentos\, via internet a Cabo ou dedicada. Dias 02 mo
 ntagem e 03 e 04 de outubro de 2024\, congresso. Em hipótese alguma a pe
 ça anatômica entrará no prédio do CAD 1.</p>
LAST-MODIFIED;VALUE=DATE-TIME:20240429T140356Z
URL:http://150.164.76.86:8080/cac/agenda/11645246740324194108
END:VEVENT
BEGIN:VTIMEZONE
TZID:America/Sao_Paulo
X-LIC-LOCATION:America/Sao_Paulo
BEGIN:STANDARD
DTSTART;VALUE=DATE-TIME:20240217T230000
TZNAME:BRT
TZOFFSETFROM:-0200
TZOFFSETTO:-0300
END:STANDARD
END:VTIMEZONE
END:VCALENDAR
