BEGIN:VCALENDAR
VERSION:2.0
PRODID:-//Plone.org//NONSGML plone.app.event//EN
X-WR-TIMEZONE:America/Sao_Paulo
BEGIN:VEVENT
SUMMARY:Manutenção em [ Auditorio da Reitoria]
DTSTART;TZID=America/Sao_Paulo;VALUE=DATE-TIME:20220203T080000
DTEND;TZID=America/Sao_Paulo;VALUE=DATE-TIME:20220304T220000
DTSTAMP;VALUE=DATE-TIME:20260422T094255Z
UID:9769fd7d490c4c5b99bed9575761c7a5@150.164.76.86:8080
CREATED;VALUE=DATE-TIME:20220128T182657Z
DESCRIPTION:<p>Manutenção civil\, elétrica\, hidráulica\, marcenaria e
  controle de pragas</p>
LAST-MODIFIED;VALUE=DATE-TIME:20220216T192841Z
URL:http://150.164.76.86:8080/cac/agenda/11641733938881856702
END:VEVENT
BEGIN:VTIMEZONE
TZID:America/Sao_Paulo
X-LIC-LOCATION:America/Sao_Paulo
BEGIN:STANDARD
DTSTART;VALUE=DATE-TIME:20220219T230000
TZNAME:BRT
TZOFFSETFROM:-0200
TZOFFSETTO:-0300
END:STANDARD
BEGIN:DAYLIGHT
DTSTART;VALUE=DATE-TIME:20211017T010000
TZNAME:BRST
TZOFFSETFROM:-0300
TZOFFSETTO:-0200
END:DAYLIGHT
END:VTIMEZONE
END:VCALENDAR
