BEGIN:VCALENDAR
VERSION:2.0
PRODID:-//Plone.org//NONSGML plone.app.event//EN
X-WR-TIMEZONE:America/Sao_Paulo
BEGIN:VEVENT
SUMMARY:Formação das comissões da CMEC em [ Auditório B107 do CAD3 Out
 ros espacos]
DTSTART;TZID=America/Sao_Paulo;VALUE=DATE-TIME:20240821T080000
DTEND;TZID=America/Sao_Paulo;VALUE=DATE-TIME:20240823T130000
DTSTAMP;VALUE=DATE-TIME:20260419T234933Z
UID:b1684f05ec1946eeafd1b6a26e756056@150.164.76.86:8080
CREATED;VALUE=DATE-TIME:20240710T173828Z
DESCRIPTION:<div>O curso acontecerá nos dias 21\, 22 e 23 de agosto de 20
 24\, das 9:00 às 18:00.</div>\n<div></div>\n<div>\n<p dir="ltr" style="te
 xt-align: justify\; ">Necessitamos de um espaço para umas 100 pessoas. O 
 curso deve ser integralmente gravado (vídeo e áudio) e\, posteriormente 
 editado pelo CAED\, para servir de material de formação contínua da CME
 C. É necessário computador (1 para cada grupo de 03 pessoas) para o trei
 namento do sistema e-PAD\, no dia 22/08/2024.</p>\n<p dir="ltr" style="tex
 t-align: justify\; ">No dia 22/08\, à tarde\, o curso será ministrado no
  Laboratório LAICO (B307 do CAD3)</p>\n<p dir="ltr" style="text-align: ju
 stify\; "><br style="text-align: justify\; text-decoration-thickness: init
 ial\; text-decoration-style: initial\; text-decoration-color: initial\; " 
 /><br /></p>\n</div>
LAST-MODIFIED;VALUE=DATE-TIME:20240717T190057Z
URL:http://150.164.76.86:8080/cac/agenda/11641128245916801703
END:VEVENT
BEGIN:VTIMEZONE
TZID:America/Sao_Paulo
X-LIC-LOCATION:America/Sao_Paulo
BEGIN:STANDARD
DTSTART;VALUE=DATE-TIME:20240217T230000
TZNAME:BRT
TZOFFSETFROM:-0200
TZOFFSETTO:-0300
END:STANDARD
END:VTIMEZONE
END:VCALENDAR
