BEGIN:VCALENDAR
VERSION:2.0
PRODID:-//Plone.org//NONSGML plone.app.event//EN
X-WR-TIMEZONE:America/Sao_Paulo
BEGIN:VEVENT
SUMMARY:Reunião Conselho Universitário em [ Outros espacos]
DTSTART;TZID=America/Sao_Paulo;VALUE=DATE-TIME:20221006T140000
DTEND;TZID=America/Sao_Paulo;VALUE=DATE-TIME:20221006T170000
DTSTAMP;VALUE=DATE-TIME:20260421T221705Z
UID:67393cd417ae4b08be9f30d1b2bba5ac@150.164.76.86:8080
CREATED;VALUE=DATE-TIME:20221003T112823Z
DESCRIPTION:<p><span> Funcionário(s) para operar o equipamento multimíd
 ia da Sala das Sessões e para gravar em áudio a reunião.</span></p>
LAST-MODIFIED;VALUE=DATE-TIME:20221003T112849Z
URL:http://150.164.76.86:8080/cac/agenda/11637860968190540611
END:VEVENT
BEGIN:VTIMEZONE
TZID:America/Sao_Paulo
X-LIC-LOCATION:America/Sao_Paulo
BEGIN:STANDARD
DTSTART;VALUE=DATE-TIME:20220219T230000
TZNAME:BRT
TZOFFSETFROM:-0200
TZOFFSETTO:-0300
END:STANDARD
END:VTIMEZONE
END:VCALENDAR
