BEGIN:VCALENDAR
VERSION:2.0
PRODID:-//Plone.org//NONSGML plone.app.event//EN
X-WR-TIMEZONE:America/Sao_Paulo
BEGIN:VEVENT
SUMMARY:Ao Cair da Tarde em [ Auditorio da Reitoria]
DTSTART;TZID=America/Sao_Paulo;VALUE=DATE-TIME:20220526T173000
DTEND;TZID=America/Sao_Paulo;VALUE=DATE-TIME:20220526T190000
DTSTAMP;VALUE=DATE-TIME:20260422T081516Z
UID:a5359be5749541af9474e05e03aa1725@150.164.76.86:8080
CREATED;VALUE=DATE-TIME:20220407T161138Z
DESCRIPTION:<p><span>Gold\, espetáculo formatura do TU</span></p>
LAST-MODIFIED;VALUE=DATE-TIME:20220408T140609Z
URL:http://150.164.76.86:8080/cac/agenda/1163200940930684736
END:VEVENT
BEGIN:VTIMEZONE
TZID:America/Sao_Paulo
X-LIC-LOCATION:America/Sao_Paulo
BEGIN:STANDARD
DTSTART;VALUE=DATE-TIME:20220219T230000
TZNAME:BRT
TZOFFSETFROM:-0200
TZOFFSETTO:-0300
END:STANDARD
END:VTIMEZONE
END:VCALENDAR
