BEGIN:VCALENDAR
VERSION:2.0
PRODID:-//Plone.org//NONSGML plone.app.event//EN
X-WR-TIMEZONE:America/Sao_Paulo
BEGIN:VEVENT
SUMMARY:Perspectiva para a pós-graduação brasileira em [ Auditorio da R
 eitoria]
DTSTART;TZID=America/Sao_Paulo;VALUE=DATE-TIME:20230328T140000
DTEND;TZID=America/Sao_Paulo;VALUE=DATE-TIME:20230328T160000
DTSTAMP;VALUE=DATE-TIME:20260421T163250Z
UID:666c2d2ffbc94098be3a9a3346b5cbef@150.164.76.86:8080
CREATED;VALUE=DATE-TIME:20230315T151509Z
DESCRIPTION:<p>Reunião</p>
LAST-MODIFIED;VALUE=DATE-TIME:20230315T151554Z
URL:http://150.164.76.86:8080/cac/agenda/11624057997364305109
END:VEVENT
BEGIN:VTIMEZONE
TZID:America/Sao_Paulo
X-LIC-LOCATION:America/Sao_Paulo
BEGIN:STANDARD
DTSTART;VALUE=DATE-TIME:20230225T230000
TZNAME:BRT
TZOFFSETFROM:-0200
TZOFFSETTO:-0300
END:STANDARD
END:VTIMEZONE
END:VCALENDAR
