BEGIN:VCALENDAR
VERSION:2.0
PRODID:-//Plone.org//NONSGML plone.app.event//EN
X-WR-TIMEZONE:America/Sao_Paulo
BEGIN:VEVENT
SUMMARY:FESTIVAL AMU 2022 em [ Outros espacos]
DTSTART;TZID=America/Sao_Paulo;VALUE=DATE-TIME:20221215T080000
DTEND;TZID=America/Sao_Paulo;VALUE=DATE-TIME:20221215T230000
DTSTAMP;VALUE=DATE-TIME:20260421T205207Z
UID:de0021f4988444edbd63dfcb30ae5900@150.164.76.86:8080
CREATED;VALUE=DATE-TIME:20221128T215823Z
DESCRIPTION:O Festival Autoral de Música Universitária (AMU) de 2022 ser
 á é um festival de cunho música autoral idealizado e realizado por disc
 entes da Escola de Música da UFMG\, \nsob orientação do professor Ferna
 ndo Braga Campos¹. Dessa forma\, oOs proponentes do Festival apresentam e
 stse projeto com o intuito de fomentar a produção cultural universitári
 a \ne ampliar o seu acesso à nova arte local para a comunidade acadêmica
  e ao público em geral.  \n\nCronograma: 15 de dezembro de 2022 (quinta-f
 eira). \n08h00 às 16h00 -   montagem e testes\n16h00 às 21h30 -  Horári
 apresentações musicaiso: 16:00 às 20:40\n21h30 às 22h30 – desmontage
 m e entrega do espaço  horas (horário de Brasília).\n\nOs equipamentos 
 utilizados serão:\n  - Escola de Música da UFMG (Backline/Sonorização/
 Gravação de Áudio e Vídeo)\;\n  - CAC (Subwoofers e Extensões de ener
 gia)\n  - Iluminação alugada
LAST-MODIFIED;VALUE=DATE-TIME:20221129T155329Z
URL:http://150.164.76.86:8080/cac/agenda/11611610220820812010
END:VEVENT
BEGIN:VTIMEZONE
TZID:America/Sao_Paulo
X-LIC-LOCATION:America/Sao_Paulo
BEGIN:DAYLIGHT
DTSTART;VALUE=DATE-TIME:20221016T010000
TZNAME:BRST
TZOFFSETFROM:-0300
TZOFFSETTO:-0200
END:DAYLIGHT
END:VTIMEZONE
END:VCALENDAR
