BEGIN:VCALENDAR
VERSION:2.0
PRODID:-//Plone.org//NONSGML plone.app.event//EN
X-WR-TIMEZONE:America/Sao_Paulo
BEGIN:VEVENT
SUMMARY:Reunião Sala de Sessões em [ Outros espacos]
DTSTART;TZID=America/Sao_Paulo;VALUE=DATE-TIME:20220520T090000
DTEND;TZID=America/Sao_Paulo;VALUE=DATE-TIME:20220520T120000
DTSTAMP;VALUE=DATE-TIME:20260422T081524Z
UID:11bbb9c5e3ff48fa9e34304fb7c56d9e@150.164.76.86:8080
CREATED;VALUE=DATE-TIME:20220510T131054Z
DESCRIPTION:<p>Reunião </p>
LAST-MODIFIED;VALUE=DATE-TIME:20220510T131103Z
URL:http://150.164.76.86:8080/cac/agenda/11609283619144234018
END:VEVENT
BEGIN:VTIMEZONE
TZID:America/Sao_Paulo
X-LIC-LOCATION:America/Sao_Paulo
BEGIN:STANDARD
DTSTART;VALUE=DATE-TIME:20220219T230000
TZNAME:BRT
TZOFFSETFROM:-0200
TZOFFSETTO:-0300
END:STANDARD
END:VTIMEZONE
END:VCALENDAR
