BEGIN:VCALENDAR
VERSION:2.0
PRODID:-//Plone.org//NONSGML plone.app.event//EN
X-WR-TIMEZONE:America/Sao_Paulo
BEGIN:VEVENT
SUMMARY:Apresentação dos ETAS aos alunos do curso Letras-Libras em [ Aud
 itorio A102 do Cad 2]
DTSTART;TZID=America/Sao_Paulo;VALUE=DATE-TIME:20250331T190000
DTEND;TZID=America/Sao_Paulo;VALUE=DATE-TIME:20250331T210000
DTSTAMP;VALUE=DATE-TIME:20260419T124809Z
UID:3ec87ef2010647c1b22736e70138d30e@150.164.76.86:8080
CREATED;VALUE=DATE-TIME:20250326T013718Z
DESCRIPTION:Apresentação dos ETAS aos alunos do Letras-Libras
LAST-MODIFIED;VALUE=DATE-TIME:20250326T132456Z
URL:http://150.164.76.86:8080/cac/agenda/1160821188142765299
END:VEVENT
BEGIN:VTIMEZONE
TZID:America/Sao_Paulo
X-LIC-LOCATION:America/Sao_Paulo
BEGIN:STANDARD
DTSTART;VALUE=DATE-TIME:20250215T230000
TZNAME:BRT
TZOFFSETFROM:-0200
TZOFFSETTO:-0300
END:STANDARD
END:VTIMEZONE
END:VCALENDAR
