BEGIN:VCALENDAR
VERSION:2.0
PRODID:-//Plone.org//NONSGML plone.app.event//EN
X-WR-TIMEZONE:America/Sao_Paulo
BEGIN:VEVENT
SUMMARY:Montagem Projeto Baixo Centro - Grupo Trem Tan Tan em [ Outros esp
 acos]
DTSTART;TZID=America/Sao_Paulo;VALUE=DATE-TIME:20220505T083000
DTEND;TZID=America/Sao_Paulo;VALUE=DATE-TIME:20220505T123000
DTSTAMP;VALUE=DATE-TIME:20260422T063705Z
UID:114af33c551c48c09da7c015b28aa8e7@150.164.76.86:8080
CREATED;VALUE=DATE-TIME:20220425T165934Z
DESCRIPTION:<p>Conforme ajustado com Marcus\, montagem do equipamento do C
 entro Cultural.</p>
LAST-MODIFIED;VALUE=DATE-TIME:20220427T135624Z
URL:http://150.164.76.86:8080/cac/agenda/11579219674961685558
END:VEVENT
BEGIN:VTIMEZONE
TZID:America/Sao_Paulo
X-LIC-LOCATION:America/Sao_Paulo
BEGIN:STANDARD
DTSTART;VALUE=DATE-TIME:20220219T230000
TZNAME:BRT
TZOFFSETFROM:-0200
TZOFFSETTO:-0300
END:STANDARD
END:VTIMEZONE
END:VCALENDAR
