BEGIN:VCALENDAR
VERSION:2.0
PRODID:-//Plone.org//NONSGML plone.app.event//EN
X-WR-TIMEZONE:America/Sao_Paulo
BEGIN:VEVENT
SUMMARY:Reunião PRORH em [ Outros espacos]
DTSTART;TZID=America/Sao_Paulo;VALUE=DATE-TIME:20241121T140000
DTEND;TZID=America/Sao_Paulo;VALUE=DATE-TIME:20241121T180000
DTSTAMP;VALUE=DATE-TIME:20260419T175950Z
UID:b843d4d292514553a4799e35027d92fd@150.164.76.86:8080
CREATED;VALUE=DATE-TIME:20241121T165651Z
DESCRIPTION:<p>Reunião PRORH</p>
LAST-MODIFIED;VALUE=DATE-TIME:20241121T165705Z
URL:http://150.164.76.86:8080/cac/agenda/11578234288975957127
END:VEVENT
BEGIN:VTIMEZONE
TZID:America/Sao_Paulo
X-LIC-LOCATION:America/Sao_Paulo
BEGIN:DAYLIGHT
DTSTART;VALUE=DATE-TIME:20241020T010000
TZNAME:BRST
TZOFFSETFROM:-0300
TZOFFSETTO:-0200
END:DAYLIGHT
END:VTIMEZONE
END:VCALENDAR
