BEGIN:VCALENDAR
VERSION:2.0
PRODID:-//Plone.org//NONSGML plone.app.event//EN
X-WR-TIMEZONE:America/Sao_Paulo
BEGIN:VEVENT
SUMMARY:PROCESSO SELETIVO UFU 2020 em [ Auditorio Nobre do CAD 1 Auditorio
  1A do CAD 1 Auditorio 2A do CAD 1 Auditório B302 do CAD 3 Auditório B10
 1/102 do CAD 3 Auditório B301 do CAD 3]
DTSTART;TZID=America/Sao_Paulo;VALUE=DATE-TIME:20200424T050000
DTEND;TZID=America/Sao_Paulo;VALUE=DATE-TIME:20200426T220000
DTSTAMP;VALUE=DATE-TIME:20260425T012151Z
UID:cad5ef298cd8471fb79ff6355830e261@150.164.76.86:8080
CREATED;VALUE=DATE-TIME:20191223T170642Z
DESCRIPTION:<p>Tendo em vista solicitação da Reitora\, em atenção a pe
 dido do Reitor da UFU\, os CAD 1 e 3\, no período dos dias 24 a 26 de abr
 il de 2020\, irão abrigar o processo seletivo da UFU.</p>
LAST-MODIFIED;VALUE=DATE-TIME:20230111T201110Z
URL:http://150.164.76.86:8080/cac/agenda/11577631023282242882
END:VEVENT
BEGIN:VTIMEZONE
TZID:America/Sao_Paulo
X-LIC-LOCATION:America/Sao_Paulo
BEGIN:STANDARD
DTSTART;VALUE=DATE-TIME:20200215T230000
TZNAME:BRT
TZOFFSETFROM:-0200
TZOFFSETTO:-0300
END:STANDARD
END:VTIMEZONE
END:VCALENDAR
