BEGIN:VCALENDAR
VERSION:2.0
PRODID:-//Plone.org//NONSGML plone.app.event//EN
X-WR-TIMEZONE:America/Sao_Paulo
BEGIN:VEVENT
SUMMARY:Seminário Nacional da Proposta Formativa Leitura e Escrita na Edu
 cação Infantil - PRO-LEEI/CNCA em [ Auditorio Nobre do CAD 1 - sem copa\
 , saguão parcial]
DTSTART;TZID=America/Sao_Paulo;VALUE=DATE-TIME:20250516T080000
DTEND;TZID=America/Sao_Paulo;VALUE=DATE-TIME:20250516T170000
DTSTAMP;VALUE=DATE-TIME:20260419T091355Z
UID:553103a409674df7ba7857e5d7e93399@150.164.76.86:8080
CREATED;VALUE=DATE-TIME:20250415T151248Z
DESCRIPTION:Serão necessários sistema de som e de áudio\, bem como\, mi
 crofone\, projetor\, computador.\n \nData: 16 de maio de 2025 - SEMINÁRIO
  PROLEEI - Se muito vale o já feito\, mais vale o que virá\n\n08h às 09
 h - Credenciamento\nExposição de trabalhos realizados por professoras Cu
 rsistas\, formadoras\nestaduais e municipais do LEEI\nFeira do livro no sa
 guão de entrada (Dani Alves e Gabriela)\n\n09h às 09:30h Mesa de abertur
 a:\n\n- Profª. Andrea Moreno - Diretora da FaE/ UFMG\n- Profª. Rita Esth
 er Luna - Diretora da DIFOR/ SEB/ MEC\n- Profª. Rita Coelho - Coordenador
 a COGEI/ DPDI/ SEB/ MEC\n- Profª. Maria Thereza Marcílio - RNPI\n- Repre
 sentante da UNDIME\n- Representante do CONSED\n- Representante Renalfa\n- 
 Profª. Mônica Correia Baptista - Coordenadora Nacional do LEEI/CNCA\n\n0
 9:30 às 11:45 - Primeira Mesa redonda: O LEEI/CNCA nas regiões CentroOes
 te\, Nordeste e Sul\n\n- Profª. Regina Marques de Souza (UFMS) - coordena
 dora do LEEI/ CNCA 2024\n- Centro-Oeste\n- Profª.Telma Leal (UFPE) - coor
 denadora do LEEI/ CNCA 2024 - Nordeste\n- Profª. Simone Santos de Albuque
 rque (UFRGS) - coordenadora LEEL/ CNCA\n2024\n- Professoras representantes
  das cursistas LEEI/ CNCA 2024 das três regiões -\nCentro-Oeste\, Nordes
 te e Sul\n\n11:45 às 13h – Almoço \n\n13h às 14h - Segunda mesa redon
 da: O LEEI/ CNCA nas regiões Norte e\nSudeste\n- Profª.Adelma Barros Men
 des (UNIFAP) - coordenadora do LEEI/ CNCA 2024 -\nNorte\n- Profª. Hilda L
 inhares (UFJF) - coordenadora adjunta do LEEI/ CNCA 2024 -\nSudeste\n- Pro
 fessoras representantes das cursistas LEEI/CNCA 2024 das duas regiões -\n
 Norte e Sudeste\n\n14:30 às 15h - Debate\n\n15h - 16h – Intervalo para 
 café
LAST-MODIFIED;VALUE=DATE-TIME:20250512T123340Z
URL:http://150.164.76.86:8080/cac/agenda/1157553949782917887
END:VEVENT
BEGIN:VTIMEZONE
TZID:America/Sao_Paulo
X-LIC-LOCATION:America/Sao_Paulo
BEGIN:STANDARD
DTSTART;VALUE=DATE-TIME:20250215T230000
TZNAME:BRT
TZOFFSETFROM:-0200
TZOFFSETTO:-0300
END:STANDARD
END:VTIMEZONE
END:VCALENDAR
