BEGIN:VCALENDAR
VERSION:2.0
PRODID:-//Plone.org//NONSGML plone.app.event//EN
X-WR-TIMEZONE:America/Sao_Paulo
BEGIN:VEVENT
SUMMARY:II Ciclo de Debates Comfic/Collicen em [ Outros espacos]
DTSTART;TZID=America/Sao_Paulo;VALUE=DATE-TIME:20240712T140000
DTEND;TZID=America/Sao_Paulo;VALUE=DATE-TIME:20240712T163000
DTSTAMP;VALUE=DATE-TIME:20260419T235005Z
UID:be82c7a8be4c43b0a033945f76a0dc24@150.164.76.86:8080
CREATED;VALUE=DATE-TIME:20240705T162202Z
DESCRIPTION:Apoio áudio visual\, microfone de mesa\, microfone com pedest
 al para público e  transmissão via youTube.
LAST-MODIFIED;VALUE=DATE-TIME:20240705T170747Z
URL:http://150.164.76.86:8080/cac/agenda/11574179487467071842
END:VEVENT
BEGIN:VTIMEZONE
TZID:America/Sao_Paulo
X-LIC-LOCATION:America/Sao_Paulo
BEGIN:STANDARD
DTSTART;VALUE=DATE-TIME:20240217T230000
TZNAME:BRT
TZOFFSETFROM:-0200
TZOFFSETTO:-0300
END:STANDARD
END:VTIMEZONE
END:VCALENDAR
