BEGIN:VCALENDAR
VERSION:2.0
PRODID:-//Plone.org//NONSGML plone.app.event//EN
X-WR-TIMEZONE:America/Sao_Paulo
BEGIN:VEVENT
SUMMARY:Quarta doze e Trinta em [ Arena da praça de serviços]
DTSTART;TZID=America/Sao_Paulo;VALUE=DATE-TIME:20230315T080000
DTEND;TZID=America/Sao_Paulo;VALUE=DATE-TIME:20230315T150000
DTSTAMP;VALUE=DATE-TIME:20260421T164321Z
UID:0ebaf1b83ec441d88883a1a5d6f38bd4@150.164.76.86:8080
CREATED;VALUE=DATE-TIME:20221124T144804Z
DESCRIPTION:Quarta doze e trinta
LAST-MODIFIED;VALUE=DATE-TIME:20221129T144446Z
URL:http://150.164.76.86:8080/cac/agenda/11573901405626364417
END:VEVENT
BEGIN:VTIMEZONE
TZID:America/Sao_Paulo
X-LIC-LOCATION:America/Sao_Paulo
BEGIN:STANDARD
DTSTART;VALUE=DATE-TIME:20230225T230000
TZNAME:BRT
TZOFFSETFROM:-0200
TZOFFSETTO:-0300
END:STANDARD
END:VTIMEZONE
END:VCALENDAR
