BEGIN:VCALENDAR
VERSION:2.0
PRODID:-//Plone.org//NONSGML plone.app.event//EN
X-WR-TIMEZONE:America/Sao_Paulo
BEGIN:VEVENT
SUMMARY:Audiência Pública sobre Processos Seletivos Seriadas com escolas
  da Educação Básica em [ Auditorio da Reitoria]
DTSTART;TZID=America/Sao_Paulo;VALUE=DATE-TIME:20231205T140000
DTEND;TZID=America/Sao_Paulo;VALUE=DATE-TIME:20231205T170000
DTSTAMP;VALUE=DATE-TIME:20260420T114900Z
UID:bead0d64e0844467bbbd93f1e8642b9a@150.164.76.86:8080
CREATED;VALUE=DATE-TIME:20231106T122613Z
DESCRIPTION:<p>Mesa para três pessoas\, microfone de mesa\, microfone com
  pedestal\, projeção e gravação.</p>
LAST-MODIFIED;VALUE=DATE-TIME:20231106T151022Z
URL:http://150.164.76.86:8080/cac/agenda/11548149611304429494
END:VEVENT
BEGIN:VTIMEZONE
TZID:America/Sao_Paulo
X-LIC-LOCATION:America/Sao_Paulo
BEGIN:DAYLIGHT
DTSTART;VALUE=DATE-TIME:20231015T010000
TZNAME:BRST
TZOFFSETFROM:-0300
TZOFFSETTO:-0200
END:DAYLIGHT
END:VTIMEZONE
END:VCALENDAR
