BEGIN:VCALENDAR
VERSION:2.0
PRODID:-//Plone.org//NONSGML plone.app.event//EN
X-WR-TIMEZONE:America/Sao_Paulo
BEGIN:VEVENT
SUMMARY:XIV Torneio de Xadrez DCE-UFMG em [ Arena da praça de serviços]
DTSTART;TZID=America/Sao_Paulo;VALUE=DATE-TIME:20240427T100000
DTEND;TZID=America/Sao_Paulo;VALUE=DATE-TIME:20240427T170000
DTSTAMP;VALUE=DATE-TIME:20260420T044642Z
UID:553cef16c3144f168825579f2020b6e7@150.164.76.86:8080
CREATED;VALUE=DATE-TIME:20240307T225220Z
DESCRIPTION:Evento realizado anualmente desde 2018 na UFMG\, iniciativa do
  DCE UFMG para promover a pratica do esporte e o bem da saúde mental dos 
 envolvidos.
LAST-MODIFIED;VALUE=DATE-TIME:20240308T170905Z
URL:http://150.164.76.86:8080/cac/agenda/11536594932593034752
END:VEVENT
BEGIN:VTIMEZONE
TZID:America/Sao_Paulo
X-LIC-LOCATION:America/Sao_Paulo
BEGIN:STANDARD
DTSTART;VALUE=DATE-TIME:20240217T230000
TZNAME:BRT
TZOFFSETFROM:-0200
TZOFFSETTO:-0300
END:STANDARD
END:VTIMEZONE
END:VCALENDAR
