BEGIN:VCALENDAR
VERSION:2.0
PRODID:-//Plone.org//NONSGML plone.app.event//EN
X-WR-TIMEZONE:America/Sao_Paulo
BEGIN:VEVENT
SUMMARY:Reunião híbrida - Instalação de comissão da Avaliação Seria
 da em [ Outros espacos]
DTSTART;TZID=America/Sao_Paulo;VALUE=DATE-TIME:20250407T140000
DTEND;TZID=America/Sao_Paulo;VALUE=DATE-TIME:20250407T180000
DTSTAMP;VALUE=DATE-TIME:20260419T104542Z
UID:91ab2aaccf4e48319658ceaf74277ba1@150.164.76.86:8080
CREATED;VALUE=DATE-TIME:20250326T130154Z
DESCRIPTION:<p><span>Instalação de comissão da Avaliação Seriada</spa
 n></p>
LAST-MODIFIED;VALUE=DATE-TIME:20250326T130208Z
URL:http://150.164.76.86:8080/cac/agenda/11504725218285752211
END:VEVENT
BEGIN:VTIMEZONE
TZID:America/Sao_Paulo
X-LIC-LOCATION:America/Sao_Paulo
BEGIN:STANDARD
DTSTART;VALUE=DATE-TIME:20250215T230000
TZNAME:BRT
TZOFFSETFROM:-0200
TZOFFSETTO:-0300
END:STANDARD
END:VTIMEZONE
END:VCALENDAR
