BEGIN:VCALENDAR
VERSION:2.0
PRODID:-//Plone.org//NONSGML plone.app.event//EN
X-WR-TIMEZONE:America/Sao_Paulo
BEGIN:VEVENT
SUMMARY:Reunião de Equipe da Reitora em [ Outros espacos]
DTSTART;TZID=America/Sao_Paulo;VALUE=DATE-TIME:20250314T093000
DTEND;TZID=America/Sao_Paulo;VALUE=DATE-TIME:20250314T103000
DTSTAMP;VALUE=DATE-TIME:20260419T120246Z
UID:62a775399c5544f59f560d2be710f5f1@150.164.76.86:8080
CREATED;VALUE=DATE-TIME:20250128T134703Z
DESCRIPTION:<p>Reunião de Equipe da Reitora</p>
LAST-MODIFIED;VALUE=DATE-TIME:20250307T172443Z
URL:http://150.164.76.86:8080/cac/agenda/11500032374834805180
END:VEVENT
BEGIN:VTIMEZONE
TZID:America/Sao_Paulo
X-LIC-LOCATION:America/Sao_Paulo
BEGIN:STANDARD
DTSTART;VALUE=DATE-TIME:20250215T230000
TZNAME:BRT
TZOFFSETFROM:-0200
TZOFFSETTO:-0300
END:STANDARD
END:VTIMEZONE
END:VCALENDAR
