BEGIN:VCALENDAR
VERSION:2.0
PRODID:-//Plone.org//NONSGML plone.app.event//EN
X-WR-TIMEZONE:America/Sao_Paulo
BEGIN:VEVENT
SUMMARY:Feira da UFMG em [ Em torno da Praca de Servicos]
DTSTART;TZID=America/Sao_Paulo;VALUE=DATE-TIME:20201202T090000
DTEND;TZID=America/Sao_Paulo;VALUE=DATE-TIME:20201202T170000
DTSTAMP;VALUE=DATE-TIME:20260424T145755Z
UID:a29a64147e2a4f4c93a5f90bc105dfe7@150.164.76.86:8080
CREATED;VALUE=DATE-TIME:20191218T211633Z
DESCRIPTION:A Feira da UFMG é uma ação de caráter educativo\, que agre
 ga cerca de 40 produtores agroecológicos da RMBH\, buscando construir um 
 circuito curto de consumo aliado à atividades de formação em temáticas
  ambientais variadas. \nNão temos previsão de uso de equipamento espec
 ífico no momento. Nos comprometemos a entrar em contato\, em tempo hábil
 \, caso essa necessidade seja prevista.
LAST-MODIFIED;VALUE=DATE-TIME:20191219T143032Z
URL:http://150.164.76.86:8080/cac/agenda/11499672286053793378
END:VEVENT
BEGIN:VTIMEZONE
TZID:America/Sao_Paulo
X-LIC-LOCATION:America/Sao_Paulo
BEGIN:DAYLIGHT
DTSTART;VALUE=DATE-TIME:20201018T010000
TZNAME:BRST
TZOFFSETFROM:-0300
TZOFFSETTO:-0200
END:DAYLIGHT
END:VTIMEZONE
END:VCALENDAR
