BEGIN:VCALENDAR
VERSION:2.0
PRODID:-//Plone.org//NONSGML plone.app.event//EN
X-WR-TIMEZONE:America/Sao_Paulo
BEGIN:VEVENT
SUMMARY:Reunião Conselho Universitário em [ Outros espacos]
DTSTART;TZID=America/Sao_Paulo;VALUE=DATE-TIME:20231121T140000
DTEND;TZID=America/Sao_Paulo;VALUE=DATE-TIME:20231121T170000
DTSTAMP;VALUE=DATE-TIME:20260420T130745Z
UID:1d18161c075e42aabf84eb774c743b86@150.164.76.86:8080
CREATED;VALUE=DATE-TIME:20231117T160110Z
DESCRIPTION:<p><span><span><span>Operar o equipamento multimídia da Sala 
 das Sessões e gravar em áudio a reunião </span></span></span></p>
LAST-MODIFIED;VALUE=DATE-TIME:20231117T160123Z
URL:http://150.164.76.86:8080/cac/agenda/11494578384865046797
END:VEVENT
BEGIN:VTIMEZONE
TZID:America/Sao_Paulo
X-LIC-LOCATION:America/Sao_Paulo
BEGIN:DAYLIGHT
DTSTART;VALUE=DATE-TIME:20231015T010000
TZNAME:BRST
TZOFFSETFROM:-0300
TZOFFSETTO:-0200
END:DAYLIGHT
END:VTIMEZONE
END:VCALENDAR
