BEGIN:VCALENDAR
VERSION:2.0
PRODID:-//Plone.org//NONSGML plone.app.event//EN
X-WR-TIMEZONE:America/Sao_Paulo
BEGIN:VEVENT
SUMMARY:Gestão da fadiga sob uma óptica integrada em [ Auditorio Nobre d
 o CAD 1]
DTSTART;TZID=America/Sao_Paulo;VALUE=DATE-TIME:20230126T080000
DTEND;TZID=America/Sao_Paulo;VALUE=DATE-TIME:20230127T170000
DTSTAMP;VALUE=DATE-TIME:20260421T175519Z
UID:24552312140b41d6ac6bbb0d383ef753@150.164.76.86:8080
CREATED;VALUE=DATE-TIME:20220429T170800Z
DESCRIPTION:Data show\, microfone\, espaço para coffee break\, fio de ext
 ensão para ligar notebook
LAST-MODIFIED;VALUE=DATE-TIME:20230113T111140Z
URL:http://150.164.76.86:8080/cac/agenda/1149351390980191735
END:VEVENT
BEGIN:VTIMEZONE
TZID:America/Sao_Paulo
X-LIC-LOCATION:America/Sao_Paulo
BEGIN:DAYLIGHT
DTSTART;VALUE=DATE-TIME:20221016T010000
TZNAME:BRST
TZOFFSETFROM:-0300
TZOFFSETTO:-0200
END:DAYLIGHT
END:VTIMEZONE
END:VCALENDAR
