BEGIN:VCALENDAR
VERSION:2.0
PRODID:-//Plone.org//NONSGML plone.app.event//EN
X-WR-TIMEZONE:America/Sao_Paulo
BEGIN:VEVENT
SUMMARY:X Encontro de Pesquisa em História -  Informação e divulgação
 : a internet como espaço de escrita da História em [ Auditorio Nobre do 
 CAD 1]
DTSTART;TZID=America/Sao_Paulo;VALUE=DATE-TIME:20220527T133000
DTEND;TZID=America/Sao_Paulo;VALUE=DATE-TIME:20220527T170000
DTSTAMP;VALUE=DATE-TIME:20260422T081606Z
UID:25edb50f117e446c9c5c7d63c6a11773@150.164.76.86:8080
CREATED;VALUE=DATE-TIME:20220425T151653Z
DESCRIPTION:Solicitamos apenas equipamentos para realização da mesa\, co
 mo microfone\, caixa de som e projeto. A mesa contará com a participaçã
 o de importantes pesquisadores\, como a Profª Drª Miriam Hermeto!
LAST-MODIFIED;VALUE=DATE-TIME:20220526T134051Z
URL:http://150.164.76.86:8080/cac/agenda/11489344246967326846
END:VEVENT
BEGIN:VTIMEZONE
TZID:America/Sao_Paulo
X-LIC-LOCATION:America/Sao_Paulo
BEGIN:STANDARD
DTSTART;VALUE=DATE-TIME:20220219T230000
TZNAME:BRT
TZOFFSETFROM:-0200
TZOFFSETTO:-0300
END:STANDARD
END:VTIMEZONE
END:VCALENDAR
