BEGIN:VCALENDAR
VERSION:2.0
PRODID:-//Plone.org//NONSGML plone.app.event//EN
X-WR-TIMEZONE:America/Sao_Paulo
BEGIN:VEVENT
SUMMARY:Inauguração da Casa da Infância em [ Outros espacos]
DTSTART;TZID=America/Sao_Paulo;VALUE=DATE-TIME:20250516T160000
DTEND;TZID=America/Sao_Paulo;VALUE=DATE-TIME:20250516T180000
DTSTAMP;VALUE=DATE-TIME:20260419T090916Z
UID:ce6799d68273440794038d193bff3e30@150.164.76.86:8080
CREATED;VALUE=DATE-TIME:20250505T132251Z
DESCRIPTION:<p><span>Inauguração da Casa da Infância</span></p>
LAST-MODIFIED;VALUE=DATE-TIME:20250505T132308Z
URL:http://150.164.76.86:8080/cac/agenda/11487904377734860671
END:VEVENT
BEGIN:VTIMEZONE
TZID:America/Sao_Paulo
X-LIC-LOCATION:America/Sao_Paulo
BEGIN:STANDARD
DTSTART;VALUE=DATE-TIME:20250215T230000
TZNAME:BRT
TZOFFSETFROM:-0200
TZOFFSETTO:-0300
END:STANDARD
END:VTIMEZONE
END:VCALENDAR
