BEGIN:VCALENDAR
VERSION:2.0
PRODID:-//Plone.org//NONSGML plone.app.event//EN
X-WR-TIMEZONE:America/Sao_Paulo
BEGIN:VEVENT
SUMMARY:Feriado: Confraternização Universal em [ Auditorio da Reitoria S
 aguao da Reitoria Gramado da Reitoria Arena da praça de serviços Entorno
  da Praca de Servicos Auditorio Nobre do CAD 1 Auditorio 1A do CAD 1 Audit
 orio 2A do CAD 1 Auditorio A102 do Cad 2 Auditorio A104 do Cad 2 Auditóri
 o B101/102 do CAD 3 Auditório B106 do CAD3 Auditório B107 do CAD3]
DTSTART;TZID=America/Sao_Paulo;VALUE=DATE-TIME:20250101T070000
DTEND;TZID=America/Sao_Paulo;VALUE=DATE-TIME:20250101T230000
DTSTAMP;VALUE=DATE-TIME:20260419T133022Z
UID:71577b6260ef4dc7b3870e8a1d760065@150.164.76.86:8080
CREATED;VALUE=DATE-TIME:20231106T140046Z
DESCRIPTION:<p>Feriado</p>
LAST-MODIFIED;VALUE=DATE-TIME:20231106T140138Z
URL:http://150.164.76.86:8080/cac/agenda/11487235565272245547
END:VEVENT
BEGIN:VTIMEZONE
TZID:America/Sao_Paulo
X-LIC-LOCATION:America/Sao_Paulo
BEGIN:DAYLIGHT
DTSTART;VALUE=DATE-TIME:20241020T010000
TZNAME:BRST
TZOFFSETFROM:-0300
TZOFFSETTO:-0200
END:DAYLIGHT
END:VTIMEZONE
END:VCALENDAR
