BEGIN:VCALENDAR
VERSION:2.0
PRODID:-//Plone.org//NONSGML plone.app.event//EN
X-WR-TIMEZONE:America/Sao_Paulo
BEGIN:VEVENT
SUMMARY:Lançamento da Cátedra Darcy Ribeiro - Soberania\, Educação e P
 olítica em [ Auditorio Nobre do CAD 1 Auditorio da Reitoria]
DTSTART;TZID=America/Sao_Paulo;VALUE=DATE-TIME:20241202T080000
DTEND;TZID=America/Sao_Paulo;VALUE=DATE-TIME:20241202T200000
DTSTAMP;VALUE=DATE-TIME:20260419T150317Z
UID:1b499ba09ce94e30b84ff73221bb337d@150.164.76.86:8080
CREATED;VALUE=DATE-TIME:20240702T123440Z
DESCRIPTION:<p><span>Equipamentos: 3 microfones de mesa\, 1 notebook no p
 úlpito\, 3 microfones sem fio. Cadeiras para 3 pessoas na mesa. Serviços
 : filmagem e projeção de imagens. Programação prévia: 10:00 Abertura:
  Sandra Regina Goulart Almeida Patrícia Kauark Leite Deputado Patrus Anan
 ias 11:00 Grande Conferência (título a definir) Denise Ferreira da Silva
  - British Columbia University 14:00 Mesa-redonda (tema a definir) Ailton 
 Krenak - Líder indígena Jamil Cury – Professor Emérito da FaE / UFMG 
 Helena Bomeny - UERJ Moderador: Leonardo Avritzer</span></p>
LAST-MODIFIED;VALUE=DATE-TIME:20241121T210404Z
URL:http://150.164.76.86:8080/cac/agenda/1142026444034883703
END:VEVENT
BEGIN:VTIMEZONE
TZID:America/Sao_Paulo
X-LIC-LOCATION:America/Sao_Paulo
BEGIN:DAYLIGHT
DTSTART;VALUE=DATE-TIME:20241020T010000
TZNAME:BRST
TZOFFSETFROM:-0300
TZOFFSETTO:-0200
END:DAYLIGHT
END:VTIMEZONE
END:VCALENDAR
