BEGIN:VCALENDAR
VERSION:2.0
PRODID:-//Plone.org//NONSGML plone.app.event//EN
X-WR-TIMEZONE:America/Sao_Paulo
BEGIN:VEVENT
SUMMARY:Curso de Verão UC Chile em [ Auditorio da Reitoria]
DTSTART;TZID=America/Sao_Paulo;VALUE=DATE-TIME:20250131T140000
DTEND;TZID=America/Sao_Paulo;VALUE=DATE-TIME:20250131T210000
DTSTAMP;VALUE=DATE-TIME:20260419T150502Z
UID:7a1c403f8edf499099ae501211c48335@150.164.76.86:8080
CREATED;VALUE=DATE-TIME:20241210T140617Z
DESCRIPTION:<p>Solicito a reserva do auditório e do saguão da Reitoria p
 ara um encontro de despedida com os estudantes internacionais do Curso de 
 Verão UC Chile. Durante o evento\, será oferecido um lanche. Adicionalme
 nte\, solicito a abertura da porta de vidro em frente ao auditório para p
 ermitir o acesso ao Jardim. Caso seja possível\, gostaríamos de dispor m
 esas com os lanches no jardim. Em caso de chuva\, as mesas poderão ser tr
 ansferidas para o corredor em frente ao auditório. Gostaríamos também d
 e reservar o acesso à copa próxima ao auditório\, para que o buffet pos
 sa utilizar para suporte e atendimento ao evento.</p>
LAST-MODIFIED;VALUE=DATE-TIME:20241210T161616Z
URL:http://150.164.76.86:8080/cac/agenda/11413388815289432264
END:VEVENT
BEGIN:VTIMEZONE
TZID:America/Sao_Paulo
X-LIC-LOCATION:America/Sao_Paulo
BEGIN:DAYLIGHT
DTSTART;VALUE=DATE-TIME:20241020T010000
TZNAME:BRST
TZOFFSETFROM:-0300
TZOFFSETTO:-0200
END:DAYLIGHT
END:VTIMEZONE
END:VCALENDAR
