BEGIN:VCALENDAR
VERSION:2.0
PRODID:-//Plone.org//NONSGML plone.app.event//EN
X-WR-TIMEZONE:America/Sao_Paulo
BEGIN:VEVENT
SUMMARY:BANCAS DE HETEROIDENTIFICAÇÃO em [ Auditório B106 do CAD3 Audit
 ório B107 do CAD3]
DTSTART;TZID=America/Sao_Paulo;VALUE=DATE-TIME:20230427T070000
DTEND;TZID=America/Sao_Paulo;VALUE=DATE-TIME:20230427T120000
DTSTAMP;VALUE=DATE-TIME:20260421T145908Z
UID:f72130db52f44a418a85254f6376b635@150.164.76.86:8080
CREATED;VALUE=DATE-TIME:20230216T180240Z
DESCRIPTION:<p><span><span><span><span><span><span><span>Registro Acadêmi
 co Presencial - Bancas de Heteroidentificação</span></span></span></span
 ></span></span></span></p>
LAST-MODIFIED;VALUE=DATE-TIME:20230414T131617Z
URL:http://150.164.76.86:8080/cac/agenda/11399473846216487264
END:VEVENT
BEGIN:VTIMEZONE
TZID:America/Sao_Paulo
X-LIC-LOCATION:America/Sao_Paulo
BEGIN:STANDARD
DTSTART;VALUE=DATE-TIME:20230225T230000
TZNAME:BRT
TZOFFSETFROM:-0200
TZOFFSETTO:-0300
END:STANDARD
END:VTIMEZONE
END:VCALENDAR
