BEGIN:VCALENDAR
VERSION:2.0
PRODID:-//Plone.org//NONSGML plone.app.event//EN
X-WR-TIMEZONE:America/Sao_Paulo
BEGIN:VEVENT
SUMMARY:51 Congresso Brasileiro de Geologia em [ Auditorio Nobre do CAD 1]
DTSTART;TZID=America/Sao_Paulo;VALUE=DATE-TIME:20240704T090000
DTEND;TZID=America/Sao_Paulo;VALUE=DATE-TIME:20240716T100000
DTSTAMP;VALUE=DATE-TIME:20260419T222634Z
UID:aab3721384184f25966a564e1c8b16e4@150.164.76.86:8080
CREATED;VALUE=DATE-TIME:20230607T162116Z
DESCRIPTION:<p>A Sociedade Brasileira de Geologia (SBG) é uma sociedade t
 écnico-científica sem fins lucrativos. Fundada em 1945\, tem por princí
 pios promover o progresso das Geociências no Brasil\, congregar e represe
 ntar geocientistas\, divulgar informações técnico-científicas no âmbi
 to das Geociências e participar ativamente das grandes decisões nacionai
 s que envolvam o ensino e a pesquisa em Geociências. O seu evento mais im
 portante\, o Congresso Brasileiro de Geologia\, com periodicidade bianual\
 , é o evento mais abrangente das Geociências no Brasil. Esse congresso 
 é um relevante espaç o de difusão dos avanços das Ciências da Terra v
 em recebendo um número cada vez maior de trabalhos e ganhando repercussã
 o internacional. Além de constituir um fórum de negócios. O último con
 gresso foi realizado em 2021\, organizado pelo Núcleo Brasília da Socied
 ade Brasileira de Geologia\, em modelo virtual\, devido à pandemia do COV
 ID-19. A quinquagésima primeira edição do maior evento de Geologia da A
 mérica Latina\, o Congresso Brasileiro de Geologia (51º CBG)\, ocorrerá
  no segundo semestre do ano que vem (2024). Por se tratar de um evento de 
 elevada visibilidade ante companhias de grande porte que financiam projeto
 s de pesquisa (ex.: Petrobrás) e o impacto do alto nível de convidados p
 ara palestras magnas (ex.: Alexandre Silveira - ministro de Minas e Energi
 a)\, o congresso será na UFMG\, dado que caracteriza um evento à altura 
 de nossa instituição. Destaco que para a quinquagésima primeira ediçã
 o do maior evento de Geologia da América Latina foi escolhido o tema “G
 EOLOGIA E SOCIEDADE”\, um assunto de extrema relevância face aos desafi
 os enfrentados por nossa nação e a comunidade internacional. Destaco ain
 da o caracter pegógico-extensionista do evento\, desde 2021 a SBG vem a
 tuando no Programa Nacional de Capacitação de Professores (as) do Ensino
  Fundamental e Médio (PNCF-SBG) para o ensino de temas ligados às Geoci
 ências</p>
LAST-MODIFIED;VALUE=DATE-TIME:20240111T173337Z
URL:http://150.164.76.86:8080/cac/agenda/11398002663143295532
END:VEVENT
BEGIN:VTIMEZONE
TZID:America/Sao_Paulo
X-LIC-LOCATION:America/Sao_Paulo
BEGIN:STANDARD
DTSTART;VALUE=DATE-TIME:20240217T230000
TZNAME:BRT
TZOFFSETFROM:-0200
TZOFFSETTO:-0300
END:STANDARD
END:VTIMEZONE
END:VCALENDAR
