BEGIN:VCALENDAR
VERSION:2.0
PRODID:-//Plone.org//NONSGML plone.app.event//EN
X-WR-TIMEZONE:America/Sao_Paulo
BEGIN:VEVENT
SUMMARY:Colação de Grau Oficial do Curso de Biomedicina em [ Auditorio A
 104 do Cad 2]
DTSTART;TZID=America/Sao_Paulo;VALUE=DATE-TIME:20240118T160000
DTEND;TZID=America/Sao_Paulo;VALUE=DATE-TIME:20240118T210000
DTSTAMP;VALUE=DATE-TIME:20260420T080901Z
UID:c4e1c5dc732940e1a40385f0d5cff70e@150.164.76.86:8080
CREATED;VALUE=DATE-TIME:20231222T132937Z
DESCRIPTION:Solenidade de Colação de Grau Oficial do Curso de Biomedicin
 a da Faculdade de Farmácia da Universidade Federal de Minas Gerais
LAST-MODIFIED;VALUE=DATE-TIME:20231226T140826Z
URL:http://150.164.76.86:8080/cac/agenda/11394888050047395174
END:VEVENT
BEGIN:VTIMEZONE
TZID:America/Sao_Paulo
X-LIC-LOCATION:America/Sao_Paulo
BEGIN:DAYLIGHT
DTSTART;VALUE=DATE-TIME:20231015T010000
TZNAME:BRST
TZOFFSETFROM:-0300
TZOFFSETTO:-0200
END:DAYLIGHT
END:VTIMEZONE
END:VCALENDAR
