BEGIN:VCALENDAR
VERSION:2.0
PRODID:-//Plone.org//NONSGML plone.app.event//EN
X-WR-TIMEZONE:America/Sao_Paulo
BEGIN:VEVENT
SUMMARY:Série de Seminários CTVacinas em [ Outros espacos]
DTSTART;TZID=America/Sao_Paulo;VALUE=DATE-TIME:20230201T110000
DTEND;TZID=America/Sao_Paulo;VALUE=DATE-TIME:20230201T122000
DTSTAMP;VALUE=DATE-TIME:20260421T163335Z
UID:e387b73abb9d4efd91ce0531f97dd2d0@150.164.76.86:8080
CREATED;VALUE=DATE-TIME:20230119T150025Z
DESCRIPTION:<p>O CTVacinas lançou a Série de Seminários\, cuja proposta
  é convidar\, toda semana\, uma referência nacional e mundial para conce
 der uma palestra gratuita no auditório do BH-TEC. No dia 1º de fevereiro
 \, será a inauguração dessa série de evento\, com o palestrante Edison
  Durigon\, professor e chefe do Departamento de Microbiologia da USP. A di
 reção do CTVacinas solicitou\, para esse evento inaugural\, a transmiss
 ão ao vivo da palestra para o YouTube - ainda estamos avaliando se transm
 itiremos pelo canal da CAC ou da UFMG. A preocupação é com a capacidade
  do auditório do BH-TEC\, de apenas 60 pessoas. Meu nome é Thiago Ricci 
 e sou o responsável atualmente pela comunicação do CTVacinas. O profess
 or Ricardo Gazzinelli\, coordenador do CTVacinas\, é quem está encabeça
 ndo a organização do evento. O e-mail dele é o ricardo.gazzinelli@fiocr
 uz.br. Se necessário\, também posso encaminhar o contato dos outros coor
 denadores do CTVacinas. Muito obrigado pelo suporte! Estou à disposição
 .</p>
LAST-MODIFIED;VALUE=DATE-TIME:20230119T151424Z
URL:http://150.164.76.86:8080/cac/agenda/11388528076676236294
END:VEVENT
BEGIN:VTIMEZONE
TZID:America/Sao_Paulo
X-LIC-LOCATION:America/Sao_Paulo
BEGIN:DAYLIGHT
DTSTART;VALUE=DATE-TIME:20221016T010000
TZNAME:BRST
TZOFFSETFROM:-0300
TZOFFSETTO:-0200
END:DAYLIGHT
END:VTIMEZONE
END:VCALENDAR
