BEGIN:VCALENDAR
VERSION:2.0
PRODID:-//Plone.org//NONSGML plone.app.event//EN
X-WR-TIMEZONE:America/Sao_Paulo
BEGIN:VEVENT
SUMMARY:A ciência da Jurema: o processo de cura através das ervas em [ A
 rena da praça de serviços]
DTSTART;TZID=America/Sao_Paulo;VALUE=DATE-TIME:20231206T193000
DTEND;TZID=America/Sao_Paulo;VALUE=DATE-TIME:20231206T213000
DTSTAMP;VALUE=DATE-TIME:20260420T114937Z
UID:e3b7d065f7de4567b34f9a10e7714b59@150.164.76.86:8080
CREATED;VALUE=DATE-TIME:20231128T233051Z
DESCRIPTION:Não é necessário nenhum equipamento. Trata-se de uma cerim
 ônia que ocorre como desdobramento e em contrapartida à uma pesquisa qua
 litativa feita com um grupo de juremeiros de Belo Horizonte. O grupo está
  acostumado a fazer celebrações litúrgicas como essa em espaços públi
 cos como parques e praças. Eles solicitaram a possibilidade de realizar o
  ritual na UFMG\, de modo a propiciar a todos os estudantes da disciplina 
 "Métodos Qualitativos" e demais interessados\, a conhecer essa cultura de
  cura.
LAST-MODIFIED;VALUE=DATE-TIME:20231129T151625Z
URL:http://150.164.76.86:8080/cac/agenda/11362199785549160540
END:VEVENT
BEGIN:VTIMEZONE
TZID:America/Sao_Paulo
X-LIC-LOCATION:America/Sao_Paulo
BEGIN:DAYLIGHT
DTSTART;VALUE=DATE-TIME:20231015T010000
TZNAME:BRST
TZOFFSETFROM:-0300
TZOFFSETTO:-0200
END:DAYLIGHT
END:VTIMEZONE
END:VCALENDAR
