BEGIN:VCALENDAR
VERSION:2.0
PRODID:-//Plone.org//NONSGML plone.app.event//EN
X-WR-TIMEZONE:America/Sao_Paulo
BEGIN:VEVENT
SUMMARY:Palestra com representante da NYFA em [ Auditório B101/102 do CAD
  3 (102 s/ ar condic)]
DTSTART;TZID=America/Sao_Paulo;VALUE=DATE-TIME:20250416T140000
DTEND;TZID=America/Sao_Paulo;VALUE=DATE-TIME:20250416T153000
DTSTAMP;VALUE=DATE-TIME:20260419T104226Z
UID:3e0de31336bd4a9ab0c1f36bdffacd57@150.164.76.86:8080
CREATED;VALUE=DATE-TIME:20250326T125743Z
DESCRIPTION:<p>Palestra com representante da NYFA (New York Film Academy) 
 sobre oportunidades de estudos nos Estados Unidos. Será necessário apena
 s projetor e microfone para a apresentação.</p>
LAST-MODIFIED;VALUE=DATE-TIME:20250328T154616Z
URL:http://150.164.76.86:8080/cac/agenda/11352637640829479342
END:VEVENT
BEGIN:VTIMEZONE
TZID:America/Sao_Paulo
X-LIC-LOCATION:America/Sao_Paulo
BEGIN:STANDARD
DTSTART;VALUE=DATE-TIME:20250215T230000
TZNAME:BRT
TZOFFSETFROM:-0200
TZOFFSETTO:-0300
END:STANDARD
END:VTIMEZONE
END:VCALENDAR
