BEGIN:VCALENDAR
VERSION:2.0
PRODID:-//Plone.org//NONSGML plone.app.event//EN
X-WR-TIMEZONE:America/Sao_Paulo
BEGIN:VEVENT
SUMMARY:Quarta Doze e Trinta ( Concerto de Natal Ars Nova) em [ Auditorio 
 da Reitoria]
DTSTART;TZID=America/Sao_Paulo;VALUE=DATE-TIME:20221207T080000
DTEND;TZID=America/Sao_Paulo;VALUE=DATE-TIME:20221207T170000
DTSTAMP;VALUE=DATE-TIME:20260421T205207Z
UID:d1b500f6981749f19185cbfc8b41a169@150.164.76.86:8080
CREATED;VALUE=DATE-TIME:20220526T174908Z
DESCRIPTION:<p>Apresentação Coral Ars Nova Equipamento de som e luz</p>
LAST-MODIFIED;VALUE=DATE-TIME:20221202T131703Z
URL:http://150.164.76.86:8080/cac/agenda/11342710986635817896
END:VEVENT
BEGIN:VTIMEZONE
TZID:America/Sao_Paulo
X-LIC-LOCATION:America/Sao_Paulo
BEGIN:DAYLIGHT
DTSTART;VALUE=DATE-TIME:20221016T010000
TZNAME:BRST
TZOFFSETFROM:-0300
TZOFFSETTO:-0200
END:DAYLIGHT
END:VTIMEZONE
END:VCALENDAR
