BEGIN:VCALENDAR
VERSION:2.0
PRODID:-//Plone.org//NONSGML plone.app.event//EN
X-WR-TIMEZONE:America/Sao_Paulo
BEGIN:VEVENT
SUMMARY:Outorga do título de Professor Emérito ao Professor Márcio Zivi
 ani em [ Outros espacos]
DTSTART;TZID=America/Sao_Paulo;VALUE=DATE-TIME:20241105T180000
DTEND;TZID=America/Sao_Paulo;VALUE=DATE-TIME:20241105T200000
DTSTAMP;VALUE=DATE-TIME:20260419T175624Z
UID:5cadd0d3443d4f349f42c5dcb8aa6e0c@150.164.76.86:8080
CREATED;VALUE=DATE-TIME:20241021T143447Z
DESCRIPTION:<p><span style="text-align: left\; text-decoration-thickness: 
 initial\; text-decoration-style: initial\; text-decoration-color: initial\
 ; float: none\; ">Outorga do título de Professor Emérito ao Professor M
 árcio Ziviani</span></p>
LAST-MODIFIED;VALUE=DATE-TIME:20241021T143502Z
URL:http://150.164.76.86:8080/cac/agenda/11323774339410364960
END:VEVENT
BEGIN:VTIMEZONE
TZID:America/Sao_Paulo
X-LIC-LOCATION:America/Sao_Paulo
BEGIN:DAYLIGHT
DTSTART;VALUE=DATE-TIME:20241020T010000
TZNAME:BRST
TZOFFSETFROM:-0300
TZOFFSETTO:-0200
END:DAYLIGHT
END:VTIMEZONE
END:VCALENDAR
