BEGIN:VCALENDAR
VERSION:2.0
PRODID:-//Plone.org//NONSGML plone.app.event//EN
X-WR-TIMEZONE:America/Sao_Paulo
BEGIN:VEVENT
SUMMARY:Feira de Artesanato da ASSUFEMG em [ Em torno da Praca de Servicos
 ]
DTSTART;TZID=America/Sao_Paulo;VALUE=DATE-TIME:20210405T081900
DTEND;TZID=America/Sao_Paulo;VALUE=DATE-TIME:20210409T071900
DTSTAMP;VALUE=DATE-TIME:20260424T093116Z
UID:109d736ea97a4caaa011af98fd0df188@150.164.76.86:8080
CREATED;VALUE=DATE-TIME:20200218T133837Z
DESCRIPTION:Painéis.
LAST-MODIFIED;VALUE=DATE-TIME:20200219T141413Z
URL:http://150.164.76.86:8080/cac/agenda/11321195572515600430
END:VEVENT
BEGIN:VTIMEZONE
TZID:America/Sao_Paulo
X-LIC-LOCATION:America/Sao_Paulo
BEGIN:STANDARD
DTSTART;VALUE=DATE-TIME:20210220T230000
TZNAME:BRT
TZOFFSETFROM:-0200
TZOFFSETTO:-0300
END:STANDARD
END:VTIMEZONE
END:VCALENDAR
