BEGIN:VCALENDAR
VERSION:2.0
PRODID:-//Plone.org//NONSGML plone.app.event//EN
X-WR-TIMEZONE:America/Sao_Paulo
BEGIN:VEVENT
SUMMARY:Encerramento Novembro Negro UFMG 2024 em [ Auditorio da Reitoria]
DTSTART;TZID=America/Sao_Paulo;VALUE=DATE-TIME:20241128T140000
DTEND;TZID=America/Sao_Paulo;VALUE=DATE-TIME:20241128T200000
DTSTAMP;VALUE=DATE-TIME:20260419T175716Z
UID:b5264671ee074176bb0d119e92ae5eba@150.164.76.86:8080
CREATED;VALUE=DATE-TIME:20240924T191452Z
DESCRIPTION:<p>Mesa de encerramento do Novembro Negro UFMG 2024</p>
LAST-MODIFIED;VALUE=DATE-TIME:20240930T174447Z
URL:http://150.164.76.86:8080/cac/agenda/11314141938978026984
END:VEVENT
BEGIN:VTIMEZONE
TZID:America/Sao_Paulo
X-LIC-LOCATION:America/Sao_Paulo
BEGIN:DAYLIGHT
DTSTART;VALUE=DATE-TIME:20241020T010000
TZNAME:BRST
TZOFFSETFROM:-0300
TZOFFSETTO:-0200
END:DAYLIGHT
END:VTIMEZONE
END:VCALENDAR
